BEGIN:VCALENDAR
VERSION:2.0
PRODID:icalendar-ruby
CALSCALE:GREGORIAN
METHOD:PUBLISH
BEGIN:VEVENT
DTSTAMP:20260423T003326Z
UID:23-1974008@southsidebaptistrh.org
DTSTART:20261028T230000Z
DTEND:20261029T000000Z
CLASS:PUBLIC
CREATED:20260422T190243
DESCRIPTION:Adult Bible Study and Prayer Meeting\nTeen Truth
LAST-MODIFIED:20260422T190243
LOCATION:Southside Baptist Church
SUMMARY:Wednesday Evening Services
URL;VALUE=URI:https://southsidebaptistrh.org/events/wednesday-evening-servi
 ces/2026-10-28
END:VEVENT
END:VCALENDAR
