BEGIN:VCALENDAR
VERSION:2.0
PRODID:icalendar-ruby
CALSCALE:GREGORIAN
METHOD:PUBLISH
BEGIN:VEVENT
DTSTAMP:20260422T224856Z
UID:23-1972800@southsidebaptistrh.org
DTSTART:20261021T230000Z
DTEND:20261022T000000Z
CLASS:PUBLIC
CREATED:20260422T160936
DESCRIPTION:Adult Bible Study and Prayer Meeting\nTeen Truth
LAST-MODIFIED:20260422T160936
LOCATION:Southside Baptist Church
SUMMARY:Wednesday Evening Services
URL;VALUE=URI:https://southsidebaptistrh.org/events/wednesday-evening-servi
 ces/2026-10-21
END:VEVENT
END:VCALENDAR
