BEGIN:VCALENDAR
VERSION:2.0
PRODID:icalendar-ruby
CALSCALE:GREGORIAN
METHOD:PUBLISH
BEGIN:VEVENT
DTSTAMP:20260422T191348Z
UID:23-1971591@southsidebaptistrh.org
DTSTART:20261007T230000Z
DTEND:20261008T000000Z
CLASS:PUBLIC
CREATED:20260422T131443
DESCRIPTION:Adult Bible Study and Prayer Meeting\nTeen Truth
LAST-MODIFIED:20260422T131443
LOCATION:Southside Baptist Church
SUMMARY:Wednesday Evening Services
URL;VALUE=URI:https://southsidebaptistrh.org/events/wednesday-evening-servi
 ces/2026-10-07
END:VEVENT
END:VCALENDAR
