BEGIN:VCALENDAR
VERSION:2.0
PRODID:icalendar-ruby
CALSCALE:GREGORIAN
METHOD:PUBLISH
BEGIN:VEVENT
DTSTAMP:20260423T125556Z
UID:22-1976193@southsidebaptistrh.org
DTSTART:20261101T230000Z
DTEND:20261102T001500Z
CLASS:PUBLIC
CREATED:20260423T072459
DESCRIPTION:
LAST-MODIFIED:20260423T072459
LOCATION:Southside Baptist Church
SUMMARY:Sunday Evening Service
URL;VALUE=URI:https://southsidebaptistrh.org/events/sunday-evening-service/
 2026-11-01
END:VEVENT
END:VCALENDAR
