BEGIN:VCALENDAR
VERSION:2.0
PRODID:icalendar-ruby
CALSCALE:GREGORIAN
METHOD:PUBLISH
BEGIN:VEVENT
DTSTAMP:20260423T001033Z
UID:22-1973775@southsidebaptistrh.org
DTSTART:20261025T220000Z
DTEND:20261025T231500Z
CLASS:PUBLIC
CREATED:20260422T190242
DESCRIPTION:
LAST-MODIFIED:20260422T190242
LOCATION:Southside Baptist Church
SUMMARY:Sunday Evening Service
URL;VALUE=URI:https://southsidebaptistrh.org/events/sunday-evening-service/
 2026-10-25
END:VEVENT
END:VCALENDAR
