BEGIN:VCALENDAR
VERSION:2.0
PRODID:icalendar-ruby
CALSCALE:GREGORIAN
METHOD:PUBLISH
BEGIN:VEVENT
DTSTAMP:20260422T204832Z
UID:22-1972566@southsidebaptistrh.org
DTSTART:20261011T220000Z
DTEND:20261011T231500Z
CLASS:PUBLIC
CREATED:20260422T160935
DESCRIPTION:
LAST-MODIFIED:20260422T160935
LOCATION:Southside Baptist Church
SUMMARY:Sunday Evening Service
URL;VALUE=URI:https://southsidebaptistrh.org/events/sunday-evening-service/
 2026-10-11
END:VEVENT
END:VCALENDAR
