BEGIN:VCALENDAR
VERSION:2.0
PRODID:icalendar-ruby
CALSCALE:GREGORIAN
METHOD:PUBLISH
BEGIN:VEVENT
DTSTAMP:20260422T190453Z
UID:22-1971358@southsidebaptistrh.org
DTSTART:20261004T220000Z
DTEND:20261004T231500Z
CLASS:PUBLIC
CREATED:20260422T131443
DESCRIPTION:
LAST-MODIFIED:20260422T131443
LOCATION:Southside Baptist Church
SUMMARY:Sunday Evening Service
URL;VALUE=URI:https://southsidebaptistrh.org/events/sunday-evening-service/
 2026-10-04
END:VEVENT
END:VCALENDAR
