BEGIN:VCALENDAR
VERSION:2.0
PRODID:icalendar-ruby
CALSCALE:GREGORIAN
METHOD:PUBLISH
BEGIN:VEVENT
DTSTAMP:20260425T115213Z
UID:215-1970747@southsidebaptistrh.org
DTSTART:20260509T153000Z
DTEND:20260510T170000Z
CLASS:PUBLIC
CREATED:20260422T105536
DESCRIPTION:
LAST-MODIFIED:20260422T105536
LOCATION:FLC / Gym
SUMMARY:Mothers Day Luncheon
URL;VALUE=URI:https://southsidebaptistrh.org/events/mothers-day-luncheon/20
 26-05-09
ATTACH;FILENAME=Copy-of-Copy-of-Ladies-Refresher-2-x-2-in.png;FMTTYPE=image
 /png:https://dq5pwpg1q8ru0.cloudfront.net/2026/04/22/14/54/48/4e58cb42-b74
 2-4a8b-b57b-b17e76fbc964/Copy-of-Copy-of-Ladies-Refresher-2-x-2-in.png
END:VEVENT
END:VCALENDAR
